
BEGIN:VCALENDAR
VERSION:2.0
PRODID:-//Christ Church Paarl - ECPv6.3.6//NONSGML v1.0//EN
CALSCALE:GREGORIAN
METHOD:PUBLISH
X-ORIGINAL-URL:https://christchurchpaarl.mpre.co.za
X-WR-CALDESC:Events for Christ Church Paarl
REFRESH-INTERVAL;VALUE=DURATION:PT1H
X-Robots-Tag:noindex
X-PUBLISHED-TTL:PT1H
BEGIN:VTIMEZONE
TZID:Africa/Johannesburg
BEGIN:STANDARD
TZOFFSETFROM:+0200
TZOFFSETTO:+0200
TZNAME:SAST
DTSTART:20240101T000000
END:STANDARD
END:VTIMEZONE
BEGIN:VEVENT
DTSTART;TZID=Africa/Johannesburg:20240526T103000
DTEND;TZID=Africa/Johannesburg:20240526T113000
DTSTAMP:20260422T071225
CREATED:20200428T112425Z
LAST-MODIFIED:20240525T191137Z
UID:1194-1716719400-1716723000@christchurchpaarl.mpre.co.za
SUMMARY:Annual Vestry Meeting
DESCRIPTION:The Annual Vestry Meeting is a time to review God’s faithfulness to CCP – we will listen to ministry report\, review our financial reports\, vote in our new leadership council and pray.
URL:https://christchurchpaarl.mpre.co.za/event/st-georges-day/
CATEGORIES:Christianity
ATTACH;FMTTYPE=image/jpeg:https://christchurchpaarl.mpre.co.za/content/uploads/2020/04/AVM2024-Instagram-Post.jpg
END:VEVENT
END:VCALENDAR