
BEGIN:VCALENDAR
VERSION:2.0
PRODID:-//Christ Church Paarl - ECPv6.3.6//NONSGML v1.0//EN
CALSCALE:GREGORIAN
METHOD:PUBLISH
X-WR-CALNAME:Christ Church Paarl
X-ORIGINAL-URL:https://christchurchpaarl.mpre.co.za
X-WR-CALDESC:Events for Christ Church Paarl
REFRESH-INTERVAL;VALUE=DURATION:PT1H
X-Robots-Tag:noindex
X-PUBLISHED-TTL:PT1H
BEGIN:VTIMEZONE
TZID:Africa/Johannesburg
BEGIN:STANDARD
TZOFFSETFROM:+0200
TZOFFSETTO:+0200
TZNAME:SAST
DTSTART:20240101T000000
END:STANDARD
END:VTIMEZONE
BEGIN:VEVENT
DTSTART;TZID=Africa/Johannesburg:20240710T183000
DTEND;TZID=Africa/Johannesburg:20240710T193000
DTSTAMP:20260421T234248
CREATED:20240619T144159Z
LAST-MODIFIED:20240619T144159Z
UID:24699-1720636200-1720639800@christchurchpaarl.mpre.co.za
SUMMARY:Prayer & Pudding
DESCRIPTION:All small groups are invited to start their terms by joining together with the rest of the church community in prayer. We meet together for an hour of prayer and sharing some lovely puddings together. \nALL are welcome. Bring a pudding to share.
URL:https://christchurchpaarl.mpre.co.za/event/prayer-pudding/
ATTACH;FMTTYPE=image/jpeg:https://christchurchpaarl.mpre.co.za/content/uploads/2024/06/prayerpuddingJUL2024.jpg
END:VEVENT
BEGIN:VEVENT
DTSTART;TZID=Africa/Johannesburg:20240719T170000
DTEND;TZID=Africa/Johannesburg:20240719T180000
DTSTAMP:20260421T234248
CREATED:20240619T145507Z
LAST-MODIFIED:20240619T151259Z
UID:24702-1721408400-1721412000@christchurchpaarl.mpre.co.za
SUMMARY:Junior Youth starts up
DESCRIPTION:
URL:https://christchurchpaarl.mpre.co.za/event/junior-youth-starts-up/
ATTACH;FMTTYPE=image/jpeg:https://christchurchpaarl.mpre.co.za/content/uploads/2024/06/Junior-Youth-2.jpg
END:VEVENT
END:VCALENDAR