
BEGIN:VCALENDAR
VERSION:2.0
PRODID:-//Christ Church Paarl - ECPv6.3.6//NONSGML v1.0//EN
CALSCALE:GREGORIAN
METHOD:PUBLISH
X-ORIGINAL-URL:https://christchurchpaarl.mpre.co.za
X-WR-CALDESC:Events for Christ Church Paarl
REFRESH-INTERVAL;VALUE=DURATION:PT1H
X-Robots-Tag:noindex
X-PUBLISHED-TTL:PT1H
BEGIN:VTIMEZONE
TZID:Africa/Johannesburg
BEGIN:STANDARD
TZOFFSETFROM:+0200
TZOFFSETTO:+0200
TZNAME:SAST
DTSTART:20240101T000000
END:STANDARD
END:VTIMEZONE
BEGIN:VEVENT
DTSTART;TZID=Africa/Johannesburg:20240915T090000
DTEND;TZID=Africa/Johannesburg:20240915T103000
DTSTAMP:20260422T011059
CREATED:20240907T195810Z
LAST-MODIFIED:20240907T195810Z
UID:25531-1726390800-1726396200@christchurchpaarl.mpre.co.za
SUMMARY:GWC Sunday
DESCRIPTION:
URL:https://christchurchpaarl.mpre.co.za/event/gwc-sunday/
ATTACH;FMTTYPE=image/png:https://christchurchpaarl.mpre.co.za/content/uploads/2024/09/Navy-Orange-Modern-Highschool-Graduates-Presentation.png
END:VEVENT
BEGIN:VEVENT
DTSTART;TZID=Africa/Johannesburg:20240927T090000
DTEND;TZID=Africa/Johannesburg:20240927T140000
DTSTAMP:20260422T011059
CREATED:20240907T194456Z
LAST-MODIFIED:20240907T194644Z
UID:25522-1727427600-1727445600@christchurchpaarl.mpre.co.za
SUMMARY:Spring Kids Carnival
DESCRIPTION:
URL:https://christchurchpaarl.mpre.co.za/event/spring-kids-carnival/
ATTACH;FMTTYPE=image/jpeg:https://christchurchpaarl.mpre.co.za/content/uploads/2024/09/SpringKids-CarnivalFinal.jpg
END:VEVENT
BEGIN:VEVENT
DTSTART;TZID=Africa/Johannesburg:20241005T083000
DTEND;TZID=Africa/Johannesburg:20241005T120000
DTSTAMP:20260422T011059
CREATED:20240907T195206Z
LAST-MODIFIED:20240907T195528Z
UID:25527-1728117000-1728129600@christchurchpaarl.mpre.co.za
SUMMARY:Spring Fun Walk
DESCRIPTION:
URL:https://christchurchpaarl.mpre.co.za/event/spring-fun-walk/
LOCATION:Olyvenbosch Olive Farm
CATEGORIES:Celebration
ATTACH;FMTTYPE=image/png:https://christchurchpaarl.mpre.co.za/content/uploads/2024/09/CCP-SpringWalk-2024-Slide.png
END:VEVENT
END:VCALENDAR