
BEGIN:VCALENDAR
VERSION:2.0
PRODID:-//Christ Church Paarl - ECPv6.3.6//NONSGML v1.0//EN
CALSCALE:GREGORIAN
METHOD:PUBLISH
X-ORIGINAL-URL:https://christchurchpaarl.mpre.co.za
X-WR-CALDESC:Events for Christ Church Paarl
REFRESH-INTERVAL;VALUE=DURATION:PT1H
X-Robots-Tag:noindex
X-PUBLISHED-TTL:PT1H
BEGIN:VTIMEZONE
TZID:Africa/Johannesburg
BEGIN:STANDARD
TZOFFSETFROM:+0200
TZOFFSETTO:+0200
TZNAME:SAST
DTSTART:20240101T000000
END:STANDARD
END:VTIMEZONE
BEGIN:VEVENT
DTSTART;TZID=Africa/Johannesburg:20240818T090000
DTEND;TZID=Africa/Johannesburg:20240818T103000
DTSTAMP:20260421T234256
CREATED:20240619T152823Z
LAST-MODIFIED:20240619T152823Z
UID:24716-1723971600-1723977000@christchurchpaarl.mpre.co.za
SUMMARY:Confirmation Service
DESCRIPTION:Join us on Sunday 18 August as a number of our teens confirm their faith in Christ before their local church family. A wonderful celebratory event of church growth – all welcome!
URL:https://christchurchpaarl.mpre.co.za/event/confirmation-service/
ATTACH;FMTTYPE=image/jpeg:https://christchurchpaarl.mpre.co.za/content/uploads/2024/06/Confirmation2024Service.jpg
END:VEVENT
END:VCALENDAR