
BEGIN:VCALENDAR
VERSION:2.0
PRODID:-//Christ Church Paarl - ECPv6.3.6//NONSGML v1.0//EN
CALSCALE:GREGORIAN
METHOD:PUBLISH
X-WR-CALNAME:Christ Church Paarl
X-ORIGINAL-URL:https://christchurchpaarl.mpre.co.za
X-WR-CALDESC:Events for Christ Church Paarl
REFRESH-INTERVAL;VALUE=DURATION:PT1H
X-Robots-Tag:noindex
X-PUBLISHED-TTL:PT1H
BEGIN:VTIMEZONE
TZID:Africa/Johannesburg
BEGIN:STANDARD
TZOFFSETFROM:+0200
TZOFFSETTO:+0200
TZNAME:SAST
DTSTART:20240101T000000
END:STANDARD
END:VTIMEZONE
BEGIN:VEVENT
DTSTART;TZID=Africa/Johannesburg:20240817T084500
DTEND;TZID=Africa/Johannesburg:20240817T121500
DTSTAMP:20260421T234100
CREATED:20240619T150157Z
LAST-MODIFIED:20240619T151640Z
UID:24708-1723884300-1723896900@christchurchpaarl.mpre.co.za
SUMMARY:Reach Women Conference 2024
DESCRIPTION:The REACH WOMEN Conference is an annual\, bible-based conference for women\, falling under the umbrella of a group of churches known as REACH SA www.reachsa.org.za  The Conference seeks to REACH WOMEN with solid bible-teaching\, vibrant praise and worship and a chance to connect with\, and hear from other women. \nWe invite women to join us at the Christ Church Somerset Venue on Saturday 17th August.  (although you are most welcome to also choose the 24th August event @ St James Church). \nBook directly online or on Sunday mornings after the service. We will be arranging lifts and carpooling so we can all travel through together. \nDo be thinking and praying about a friend or family member you’d like to invite along. But hurry – tickets are limited!
URL:https://christchurchpaarl.mpre.co.za/event/reach-women-conference-2024/
LOCATION:Christ Church Somerset West\, Helderberg College Rd & Old Stellenbosch Road\, Somerset West\, Cape Town\, Western Cape\, 7130
ATTACH;FMTTYPE=image/jpeg:https://christchurchpaarl.mpre.co.za/content/uploads/2024/06/DMK-2-scaled-2.jpg
END:VEVENT
END:VCALENDAR